BEGIN:VCALENDAR
VERSION:2.0
PRODID:-//North Carolina Youth Soccer - ECPv6.15.17.1//NONSGML v1.0//EN
CALSCALE:GREGORIAN
METHOD:PUBLISH
X-ORIGINAL-URL:https://www.ncsoccer.org
X-WR-CALDESC:Events for North Carolina Youth Soccer
REFRESH-INTERVAL;VALUE=DURATION:PT1H
X-Robots-Tag:noindex
X-PUBLISHED-TTL:PT1H
BEGIN:VTIMEZONE
TZID:UTC
BEGIN:STANDARD
TZOFFSETFROM:+0000
TZOFFSETTO:+0000
TZNAME:UTC
DTSTART:20250101T000000
END:STANDARD
END:VTIMEZONE
BEGIN:VEVENT
DTSTART;VALUE=DATE:20260516
DTEND;VALUE=DATE:20260518
DTSTAMP:20260419T135059
CREATED:20260115T160755Z
LAST-MODIFIED:20260115T160755Z
UID:10000167-1778889600-1779062399@www.ncsoccer.org
SUMMARY:2026 IFC CROSSROADS CLASSIC
DESCRIPTION:Unrestricted Tournament \nStatesville and Mooresville fields \n7U-9U Boys and Girls – Recreation and Academy teams\n10U Boys and Girls – Recreation\, Academy\, Select teams\n11U-19U – Recreation and Select teams \nEntry Deadline:  April 17\, 2026\nEntry Fees: $460 – $825 (early bird discount may apply) \nTournament Director:  Craig Hollis 203-628-5456 \nWebsite:  \nPermission to Host:\n2026 Impact FC Crossroads Classic
URL:https://www.ncsoccer.org/ncsanctionedtournamentpage/2026-ifc-crossroads-classic/
END:VEVENT
BEGIN:VEVENT
DTSTART;VALUE=DATE:20260815
DTEND;VALUE=DATE:20260817
DTSTAMP:20260419T135059
CREATED:20260327T125103Z
LAST-MODIFIED:20260327T125103Z
UID:10000180-1786752000-1786924799@www.ncsoccer.org
SUMMARY:2026 CSA DICKS SPORTING GOODS GIRLS SHOWCASE
DESCRIPTION:Unrestricted tournament \nCharlotte and Rock Hill fields (NCYSA registered teams do not need Notification to Travel if playing in Rock Hill) \nU13 – U18/19 Girls – Select teams \nEntry Deadline:  August 3\, 2026\nEntry Fees: $750 \nTournament Director:  Dan Dudley   704-791-7032 \nWebsite \nPermission to Host:\n2026 CSA DSG Girls Showcase
URL:https://www.ncsoccer.org/ncsanctionedtournamentpage/2026-csa-dicks-sporting-goods-girls-showcase/
END:VEVENT
BEGIN:VEVENT
DTSTART;VALUE=DATE:20260815
DTEND;VALUE=DATE:20260817
DTSTAMP:20260419T135059
CREATED:20260327T125539Z
LAST-MODIFIED:20260327T125539Z
UID:10000181-1786752000-1786924799@www.ncsoccer.org
SUMMARY:2026 CSA DICKS SPORTING GOODS GIRLS INVITATIONAL
DESCRIPTION:Unrestricted tournament \nCharlotte and Rock Hill fields (NCYSA registered teams do not need Notification to Travel if playing in Rock Hill) \nU9 – U10 Girls – Academy and Select\nU11 – U18/19 Girls – Select \nEntry Deadline:  August 3\, 2026\nEntry Fees: $300 – $1025 \nTournament Director:  Dan Dudley   704-791-7032 \nWebsite \nPermission to Host:\n2026 CSA DSG Girls Invitational
URL:https://www.ncsoccer.org/ncsanctionedtournamentpage/2026-csa-dicks-sporting-goods-girls-invitational/
END:VEVENT
BEGIN:VEVENT
DTSTART;VALUE=DATE:20260822
DTEND;VALUE=DATE:20260824
DTSTAMP:20260419T135059
CREATED:20260108T134841Z
LAST-MODIFIED:20260108T134841Z
UID:10000165-1787356800-1787529599@www.ncsoccer.org
SUMMARY:2026 HCSA APPALACHIAN CLASSIC
DESCRIPTION:Unrestricted tournament \nBoone\, NC fields \n11U Boys & Girls – Recreation\, Academy\, Select teams\n12U -14U Boys and Girls – Recreation and Select teams\n16U & 19U Girls – Recreation and Select teams \nEntry Deadline: August 8\, 2026\nEntry Fees: $650 – $750 \nTournament Director: Marco Fonseca  919-413-3526 \nWebsite \nPermission to Host:\n2026 HCSA Appalachian Classic\n \n 
URL:https://www.ncsoccer.org/ncsanctionedtournamentpage/2026-hcsa-appalachian-classic/
END:VEVENT
BEGIN:VEVENT
DTSTART;VALUE=DATE:20260822
DTEND;VALUE=DATE:20260824
DTSTAMP:20260419T135059
CREATED:20260226T145040Z
LAST-MODIFIED:20260226T145040Z
UID:10000176-1787356800-1787529599@www.ncsoccer.org
SUMMARY:2026 ABYSA RIVERSIDE SUMMER SHOOUTOUT-GIRLS
DESCRIPTION:Unrestricted tournament \n10U – 19U Girls – Select teams \nEntry Deadline:  August 3\, 2026\nEntry Fees: $600 – $890 \nTournament Director:  Bobby Somerville  828-299-7277 \nWebsite \nPermission to Host:\n2026 ABYSA Riverside Summer Shootout – Girls
URL:https://www.ncsoccer.org/ncsanctionedtournamentpage/2026-abysa-riverside-summer-shooutout-girls/
END:VEVENT
BEGIN:VEVENT
DTSTART;VALUE=DATE:20260822
DTEND;VALUE=DATE:20260824
DTSTAMP:20260419T135059
CREATED:20260327T125906Z
LAST-MODIFIED:20260327T125906Z
UID:10000182-1787356800-1787529599@www.ncsoccer.org
SUMMARY:2026 CSA DICKS SPORTING GOODS BOYS SHOWCASE
DESCRIPTION:Unrestricted tournament \nCharlotte and Rock Hill fields (NCYSA registered teams do not need Notification to Travel if playing in Rock Hill) \nU13 – U18/19 Boys – Select teams \nEntry Deadline:  August 10\, 2026\nEntry Fees: $750 \nTournament Director:  Dan Dudley   704-791-7032 \nWebsite \nPermission to Host:\n2026 CSA DSG Boys Showcase
URL:https://www.ncsoccer.org/ncsanctionedtournamentpage/2026-csa-dicks-sporting-goods-boys-showcase/
END:VEVENT
BEGIN:VEVENT
DTSTART;VALUE=DATE:20260822
DTEND;VALUE=DATE:20260824
DTSTAMP:20260419T135059
CREATED:20260327T130154Z
LAST-MODIFIED:20260327T130154Z
UID:10000183-1787356800-1787529599@www.ncsoccer.org
SUMMARY:2026 CSA DICKS SPORTING GOODS BOYS INVITATIONAL
DESCRIPTION:Unrestricted tournament \nCharlotte and Rock Hill fields (NCYSA registered teams do not need Notification to Travel if playing in Rock Hill) \nU9 – U10 Boys – Academy and Select\nU11 – U18/19 Boys – Select \nEntry Deadline:  August 10\, 2026\nEntry Fees: $300 – $1025 \nTournament Director:  Dan Dudley   704-791-7032 \nWebsite \nPermission to Host:\n2026 CSA DSG Boys Invitational
URL:https://www.ncsoccer.org/ncsanctionedtournamentpage/2026-csa-dicks-sporting-goods-boys-invitational/
END:VEVENT
BEGIN:VEVENT
DTSTART;VALUE=DATE:20260829
DTEND;VALUE=DATE:20260831
DTSTAMP:20260419T135059
CREATED:20260226T145254Z
LAST-MODIFIED:20260226T145254Z
UID:10000177-1787961600-1788134399@www.ncsoccer.org
SUMMARY:2026 ABYSA RIVERSIDE SUMMER SHOOTOUT - BOYS
DESCRIPTION:Unrestricted tournament \n10U – 19U Boys – Select teams \nEntry Deadline:  August 10\, 2026\nEntry Fees: $600 – $890 \nTournament Director:  Bobby Somerville  828-299-7277 \nWebsite \nPermission to Host:\n2026 ABYSA Riverside Summer Shootout – Boys
URL:https://www.ncsoccer.org/ncsanctionedtournamentpage/2026-abysa-riverside-summer-shootout-boys/
END:VEVENT
BEGIN:VEVENT
DTSTART;VALUE=DATE:20260912
DTEND;VALUE=DATE:20260914
DTSTAMP:20260419T135059
CREATED:20260327T130711Z
LAST-MODIFIED:20260327T130711Z
UID:10000184-1789171200-1789343999@www.ncsoccer.org
SUMMARY:2026 CISC INDEPENDENCE CUP
DESCRIPTION:Unrestricted tournament \nHuntersville and Rock Hill fields (NCYSA registered teams do not need Notification to Travel if playing in Rock Hill) \nU11 – U19 Boys and Girls – Select teams \nEntry Deadline:  August 23\, 2026\nEntry Fees: $795 – 925 \nTournament Director:  Tom Ammann  813-517-7746 \nWebsite \nPermission to Host:\n2026 CISC Independence Cup
URL:https://www.ncsoccer.org/ncsanctionedtournamentpage/2026-cisc-independence-cup/
END:VEVENT
BEGIN:VEVENT
DTSTART;VALUE=DATE:20261010
DTEND;VALUE=DATE:20261012
DTSTAMP:20260419T135059
CREATED:20260121T153921Z
LAST-MODIFIED:20260121T153921Z
UID:10000169-1791590400-1791763199@www.ncsoccer.org
SUMMARY:2026 NCFCY CAPITAL CITY CLASSIC
DESCRIPTION:Unrestricted tournament \nWRAL Soccer Park\, Raleigh area fields \n9U-19U Boys and Girls – Recreation and Select \nEntry Deadline: September 15\, 2026\nEntry Fees:  $495  – $795 \nTournament Director:  Ryan Holbrook  919-834-3951 \nWebsite: \nPermission to Host:\n2026 NCFCY Capital City Classic
URL:https://www.ncsoccer.org/ncsanctionedtournamentpage/2026-ncfcy-capital-city-classic/
END:VEVENT
BEGIN:VEVENT
DTSTART;VALUE=DATE:20261107
DTEND;VALUE=DATE:20261109
DTSTAMP:20260419T135059
CREATED:20260121T151539Z
LAST-MODIFIED:20260121T151539Z
UID:10000168-1794009600-1794182399@www.ncsoccer.org
SUMMARY:2026 MYSA FALL CHAMPIONS CUP
DESCRIPTION:Unrestricted tournament \nMebane area fields \n8U – 10U Boys and Girls – Recreation\, Academy and 10U Select teams\n11U – 19U – Boys and Girls – Select team \nEntry Deadline: October 7\, 2026\nEntry Fees: $450 – $825 \nTournament Director:  Taylor Saxe  336-221-8840 \nWebsite: \nPermission to Host:\n2026 MYSA Fall Champions Cup
URL:https://www.ncsoccer.org/ncsanctionedtournamentpage/2026-mysa-fall-champions-cup/
END:VEVENT
BEGIN:VEVENT
DTSTART;VALUE=DATE:20261107
DTEND;VALUE=DATE:20261109
DTSTAMP:20260419T135059
CREATED:20260202T135715Z
LAST-MODIFIED:20260202T135715Z
UID:10000170-1794009600-1794182399@www.ncsoccer.org
SUMMARY:2026 NCFCY visitRaleigh.com GIRLS JR SHOWCASE
DESCRIPTION:Unrestricted Tournament \nWRAL and Raleigh area fields \n10U-14U Girls – Select teams \nEntry Deadline:  October 5\, 2026\nEntry Fees: $825 – $1195 \nTournament Director:  Ryan Holbrook  919-834-3951 \nWebsite \nPermission to Host:\n2026 NCFCY visitRaleigh.com Girls Jr. Showcase
URL:https://www.ncsoccer.org/ncsanctionedtournamentpage/2026-ncfcy-visitraleigh-com-girls-jr-showcase/
END:VEVENT
BEGIN:VEVENT
DTSTART;VALUE=DATE:20261114
DTEND;VALUE=DATE:20261116
DTSTAMP:20260419T135059
CREATED:20260202T140012Z
LAST-MODIFIED:20260202T140012Z
UID:10000171-1794614400-1794787199@www.ncsoccer.org
SUMMARY:2026 NCFCY visitRaleigh.com BOYS JR SHOWCASE
DESCRIPTION:Unrestricted Tournament \nWRAL and Raleigh area fields \n10U-14U Boys – Select teams \nEntry Deadline:  October 9\, 2026\nEntry Fees: $875 – $1275 \nTournament Director:  Ryan Holbrook  919-834-3951 \nWebsite \nPermission to Host:\n2026 NCFCY visitRaleigh.com Boys Jr Showcase
URL:https://www.ncsoccer.org/ncsanctionedtournamentpage/2026-ncfcy-visitraleigh-com-boys-jr-showcase/
END:VEVENT
BEGIN:VEVENT
DTSTART;VALUE=DATE:20261114
DTEND;VALUE=DATE:20261116
DTSTAMP:20260419T135059
CREATED:20260327T131506Z
LAST-MODIFIED:20260327T131506Z
UID:10000186-1794614400-1794787199@www.ncsoccer.org
SUMMARY:2026 CISC BOYS FALL CLASSIC
DESCRIPTION:Unrestricted tournament \nHuntersville fields \nU11 – U19 Boys – Select teams \nEntry Deadline:  October 25\, 2026\nEntry Fees: $795 – 925 \nTournament Director:  Tom Ammann  813-517-7746 \nWebsite \nPermission to Host:\n2026 CISC Boys Fall Classic
URL:https://www.ncsoccer.org/ncsanctionedtournamentpage/2026-cisc-boys-fall-classic/
END:VEVENT
BEGIN:VEVENT
DTSTART;VALUE=DATE:20261120
DTEND;VALUE=DATE:20261123
DTSTAMP:20260419T135059
CREATED:20260202T140411Z
LAST-MODIFIED:20260202T140411Z
UID:10000172-1795132800-1795391999@www.ncsoccer.org
SUMMARY:2026 NCFCY visitRaleigh.com GIRLS COLLEGE SHOWCASE
DESCRIPTION:Unrestricted Tournament \nWRAL and Raleigh area fields \n15U-17U\,19U Girls –  Select teams \nEntry Deadline:  October 1\, 2026\nEntry Fees: $1595 \nTournament Director:  Ryan Holbrook  919-834-3951 \nWebsite \nPermission to Host:\n2026 NCFCY visitRaleigh.com Girls College Showcase
URL:https://www.ncsoccer.org/ncsanctionedtournamentpage/2026-ncfcy-visitraleigh-com-girls-college-showcase/
END:VEVENT
BEGIN:VEVENT
DTSTART;VALUE=DATE:20261121
DTEND;VALUE=DATE:20261123
DTSTAMP:20260419T135059
CREATED:20260327T131221Z
LAST-MODIFIED:20260327T131221Z
UID:10000185-1795219200-1795391999@www.ncsoccer.org
SUMMARY:2026 CISC GIRLS FALL CLASSIC
DESCRIPTION:Unrestricted tournament \nHuntersville fields \nU11 – U19 Girls – Select teams \nEntry Deadline:  November 1\, 2026\nEntry Fees: $795 – 925 \nTournament Director:  Tom Ammann  813-517-7746 \nWebsite \nPermission to Host:\n2026 CISC Girls Fall Classic
URL:https://www.ncsoccer.org/ncsanctionedtournamentpage/2026-cisc-girls-fall-classic/
END:VEVENT
BEGIN:VEVENT
DTSTART;VALUE=DATE:20261205
DTEND;VALUE=DATE:20261207
DTSTAMP:20260419T135059
CREATED:20260310T122310Z
LAST-MODIFIED:20260310T122310Z
UID:10000178-1796428800-1796601599@www.ncsoccer.org
SUMMARY:2026 ABYSA RIVERSIDE SR GIRLS SHOWCASE
DESCRIPTION:Unrestricted tournament \nU16 – 19 Girls – Select teams \nEntry Deadline:  November 16\, 2026\nEntry Fees: $750 \nTournament Director: Bobby Somerville  828-299-7277 \nWebsite \nPermission to Host:\n2026 ABYSA Riverside Sr Girls Showcase
URL:https://www.ncsoccer.org/ncsanctionedtournamentpage/2026-abysa-riverside-sr-girls-showcase/
END:VEVENT
BEGIN:VEVENT
DTSTART;VALUE=DATE:20261211
DTEND;VALUE=DATE:20261214
DTSTAMP:20260419T135059
CREATED:20260202T140708Z
LAST-MODIFIED:20260202T140708Z
UID:10000173-1796947200-1797206399@www.ncsoccer.org
SUMMARY:2026 NCFCY visitRaleigh.com BOYS COLLEGE SHOWCASE
DESCRIPTION:Unrestricted Tournament \nWRAL and Raleigh area fields \n15U-17U\,19U Boys – Select teams \nEntry Deadline:  October 16\, 2026\nEntry Fees: $1595 – $1895 \nTournament Director:  Ryan Holbrook  919-834-3951 \nWebsite \nPermission to Host:\n2026 NCFCY visitRaleigh.com BoysCollege Showcase
URL:https://www.ncsoccer.org/ncsanctionedtournamentpage/2026-ncfcy-visitraleigh-com-boys-college-showcase/
END:VEVENT
BEGIN:VEVENT
DTSTART;VALUE=DATE:20270205
DTEND;VALUE=DATE:20270208
DTSTAMP:20260419T135059
CREATED:20260324T155903Z
LAST-MODIFIED:20260324T155903Z
UID:10000179-1801785600-1802044799@www.ncsoccer.org
SUMMARY:2027 MYSA Spring Shootout
DESCRIPTION:Unrestricted Tournament \nU8 – U9 Boys and Girls: Recreation and Academy\nU10 Boys and Girls: Recreation\, Academy and Select\nU11- U18/19 Boys and Girls: Select \nEntry Deadline:  January 4\, 2027\nEntry Fees: $450 – $850 \nTournament Director: Taylor Saxe  336-221-8840 \nWebsite \nPermission to Host:\n2027 MYSA Spring Shootout – Amended
URL:https://www.ncsoccer.org/ncsanctionedtournamentpage/2027-mysa-spring-shootout/
END:VEVENT
END:VCALENDAR